BEGIN:VCALENDAR
VERSION:2.0
PRODID:-//Lihaveis - ECPv6.9.0//NONSGML v1.0//EN
CALSCALE:GREGORIAN
METHOD:PUBLISH
X-WR-CALNAME:Lihaveis
X-ORIGINAL-URL:https://lihaveis.ee
X-WR-CALDESC:Events for Lihaveis
REFRESH-INTERVAL;VALUE=DURATION:PT1H
X-Robots-Tag:noindex
X-PUBLISHED-TTL:PT1H
BEGIN:VTIMEZONE
TZID:Europe/Tallinn
BEGIN:DAYLIGHT
TZOFFSETFROM:+0200
TZOFFSETTO:+0300
TZNAME:EEST
DTSTART:20220327T010000
END:DAYLIGHT
BEGIN:STANDARD
TZOFFSETFROM:+0300
TZOFFSETTO:+0200
TZNAME:EET
DTSTART:20221030T010000
END:STANDARD
END:VTIMEZONE
BEGIN:VEVENT
DTSTART;TZID=Europe/Tallinn:20220823T100000
DTEND;TZID=Europe/Tallinn:20220823T133000
DTSTAMP:20260420T153656
CREATED:20220715T124622Z
LAST-MODIFIED:20220715T124622Z
UID:25631-1661248800-1661261400@lihaveis.ee
SUMMARY:Tööohutus ja -tervishoid põllumajanduses ETTEVÕTTE KÜLASTUSEGA!
DESCRIPTION:Infopäev tööohutusest ja töötervishoiust põllumajanduses koos praktilise ettevõtte külastusega 23. augustil 2022 Üdrumal“Ettevõttes  saab näha\, kuidas on  tagatud  töötajate  ohutus töökojas\, masinatega ja  kemikaalidega (taimekaitsevahendid) töötamisel\, töötajate olmetingimused\, millised on vajalikud ohutusmärgid ja isikukaitsevahendid.  Kuidas on korraldatud töötajate juhendamine\, kuidas see on dokumenteeritud.” Maaeluvõrgustik koos konsulent Vaike Nõuga korraldab tööohutuse ja töötervishoiu infopäeva koos ettevõtte külastusega 23. augustil 2022 Üdrumal. Osalejatel on harukordne võimalus näha\, kuidas teooria on rakendatud praktikasse tegutsevas põllumajandusettevõttes. Oma uksed avab huvilistele lahkelt Reinu Einari OÜ\, kus tegeletakse põllumajanduse\, metsanduse ja masinate remondiga. Infopäeva teemade valikul lähtusime Euroopa tööohutuse ja töötervishoiu agentuuri 2020. aastal valminud uuringus esile kerkinud kitsaskohtadest. Juttu tuleb töökeskkonna ohuteguritest\, riskianalüüsist ja töötajate ohutuse tagamisest põllumajanduses. Oodatud on kõik põllumajandustootjad ja põllumajanduse huvilised. Päevakava \n10.00-11.30 Töökeskkonna  ohutegurid põllumajanduses. Riskianalüüs.  Töötajate kaitse tagamine (sealhulgas hooajatöötajad  ja võõrtööjõud).11.30-11.45   Kohvipaus11.45-12.15   Töötervishoidu ja tööohutust puudutav seadusandlus. Dokumentatsioon.12.15-12.25 Paus (ettevõttesse minek)12.25-13.25- Põllumajandusettevõttes tööohutuse tagamise praktilised näited (ettevõttes) \nTeoreetiline osa 10.00-12.15 toimub Üdruma seltsimajas\, praktiline osa 12.25-13.25 Reinu-Einari OÜs (Üdruma külas Lääne-Nigula vallas\, Läänemaal). Infopäeva lektor on konsulent Vaike Nõu.   Infopäev toimub “Teadmussiirde programm põllumajanduse\, toidu ja maamajanduse tegevusvaldkonnas” raames. Toetab Euroopa Liit Lisainfo ürituse kohta: Liina Ulm\, liina.ulm@pmk.agri.ee Samal teemal:  \nTööohutus\, ohutuskultuur ja riskijuhtimine Eesti ja Euroopa põllumajandusesTööohutus mikroettevõtetesEU-OHSA: Tööohutus ja töötervishoid \n 
URL:https://lihaveis.ee/sundmus/tooohutus-ja-tervishoid-pollumajanduses-ettevotte-kulastusega/
LOCATION:Läänemaa\, Läänemaa\, Eesti
END:VEVENT
BEGIN:VEVENT
DTSTART;VALUE=DATE:20220816
DTEND;VALUE=DATE:20220818
DTSTAMP:20260420T153656
CREATED:20220627T123643Z
LAST-MODIFIED:20220628T053100Z
UID:20933-1660618800-1660705199@lihaveis.ee
SUMMARY:EPKK infopäev "Kvaliteetse liha tootmine alates lihaveiste söötmisest ja aretusest"
DESCRIPTION:Infopäev toimub MAK 2014-2020 meetme „Teadmussiirde pikaajaline programm põllumajanduse\, toidu ja maamajanduse tegevusvaldkonnas“ loomakasvatuse valdkonna raames; Rahastamisallikas: Euroopa Maaelu Põllumajandusfond (EAFRD). \nLisainformatsioon: EPKK projektijuht Maire Vimb – 50 86 664 või maire@epkk.ee
URL:https://lihaveis.ee/sundmus/epkk-infopaev-kvaliteetse-liha-tootmine-alates-lihaveiste-sootmisest-ja-aretusest/
END:VEVENT
BEGIN:VEVENT
DTSTART;TZID=Europe/Tallinn:20220808T080000
DTEND;TZID=Europe/Tallinn:20220810T200000
DTSTAMP:20260420T153656
CREATED:20220714T155234Z
LAST-MODIFIED:20220714T155234Z
UID:25545-1659945600-1660161600@lihaveis.ee
SUMMARY:Õppereis Soome "Süsinikuneutraalse tootmise põhimõtted"
DESCRIPTION:ÕPPEREIS VÄLISRIIKI\, SOOME 8-10. august 2022 Teema: “Süsinikuneutraalse tootmise põhimõtted“ Korraldaja: Eesti Maaülikool avatud ülikool koostöös Baltic Toursiga. Õppereisi tasu on 300 eur/osaleja. Sihtgrupp: Põllumajandusettevõtjad Eestis.Õppereisi rahastab/Funded by:  Põllumajanduse Registrite ja Informatsiooni Amet toidu ja maamajanduse tegevusvaldkonnas teadmussiirde pikaajalise programmi raames“ OSAVÕTJATE ARV: 10 osalejatOsavõtutasu: 300 eur Toimumise koht: SOOMEFarm 1 – Vierelä Agro Oy (loomad jm)\, aadress: Viereläntie 51 B\, 03400 VihtiFarm 2 – Verkatakkila farmi (taimekasvatus)\, aadress: Kirveläntie 63\, 03400 08.08 Tallinn-Helsingi 12.00-14.15 – Eckerö Line10.08 Helsingi-Tallinn 15.15-17.30 – Eckerö Line TRANSPORT: Eesti Maaülikooli buss + 1 sõiduauto. Bussis on 8 kohta ja sõiduautos 3 kohta. Faili lõpus on rohkem infot.  \n1. PÄEV/1 day\, 8.08.2022: Hotelli konverentsisaalis. Loeng 3 at.  \nAlgus kell: 16.00 – 18.15 1.Tervitus ja väike sissejuhatus – ca 5 min.Esineja: Kristina Marran Eesti Maaülikool Avatud ülikool juhataja ja õppereisi projektijuht.2. “Süsinikunautraalse tootmise eesmärgid aastaks 2035 ja 2050”Esineja (eesti keeles): Sandra Salom (45 min). Esineb läbi veebi/occurs through the web.3. Taastuvenergia farminduses/põllumajandusesEsineja: Mihkel Annus (eesti keeles)\, Eesti Taastuvenergia Koda 4. Õhtusöök hotellis \n2. PÄEV/2 day\, 9.08.2022. Kell 10.00 – 12.151.Farmi Vierelä Agro Oy külastus Esineja/performer: Eliisa Malin (inglise keeles või soome keeles)“Regenerative agriculture\, carbon sequestration and biodiversity/ Taastav põllumajandus\, süsiniku sidumine ja bioloogiline mitmekesisus” 2. Õhtusöök hotellis \n3. PÄEV/3 day\, 10.08.2022. Kell 10.00-12.15 1. Verkatakkila farmi külastus + ettekanne Verkatakkila talus on taimekasvatus (süsinikuneutraalsus alates 2018. a). Esineja/performer: Sirkku Puumala and Patrick Nyström (inglise keeles või soome keeles)“Taking care of soil health and adopting regenerative farming methods in Verkatakkila farm” \nPÄEVAKAVA: 8.08.2022Stardime Eesti Maaülikooli Tehnikainsituudi eest (Kreutzwaldi 56/1\, Tartu) kell: 8.30. Transpordivahendid: EMU väikebuss + sõiduauto.Laev väljub 13.30\, saabumine Helsinkisse 14.15 ja jätkub sõit hotelli ning ülejäänud tegevused on nii nagu ülevalpool tabelist näha. Vajalik on vähemalt 1h enne laeva väljumist olla kohal. Osalejatega Harjumaalt või mujalt põhja poolt\, lepime kokku kohtumiskoha Tallinna sadamas enne laevapeale minekut. HOTELL: Haltia Lake Lodge\, ca 40 km Vihtist Helsingi poole järvede vahel. https://haltialakelodge.com/en-US/6 x kahene tuba\, eraldi voodidHommikusöök ja õhtusöök on tasuta. Tagasi: 10.08.2022Laev väljub Helsinkist 15.15 ja saabub Tallinna 17.30. Vajalik on vähemalt 1h olla enne laeva väljumist kohal. Orinteeruv saabumise aeg Tartusse: 20.00.   Korraldaja andmed:Kristina Marran – Avatud ülikooli juhataja\, Eesti MaaülikoolTel: +372 731 3174; +372 51 88 937Fr. R. Kreutzwaldi 56/1-A304 Kristina.Marran@emu.eehttp://avatudylikool.emu.ee/www.mikrokraadid.emu.ee
URL:https://lihaveis.ee/sundmus/oppereis-soome-susinikuneutraalse-tootmise-pohimotted/
LOCATION:Muu\, Pärnu\, Eesti
ORGANIZER;CN="Eesti%20Maa%C3%BClikooli%20avatud%20%C3%BClikool":MAILTO:avayl@emu_ee
END:VEVENT
BEGIN:VEVENT
DTSTART;TZID=Europe/Tallinn:20220726T100000
DTEND;TZID=Europe/Tallinn:20220726T150000
DTSTAMP:20260420T153656
CREATED:20220714T155155Z
LAST-MODIFIED:20220714T155155Z
UID:25543-1658829600-1658847600@lihaveis.ee
SUMMARY:Esitluspäev: Põllulinnud tootmispõldudel
DESCRIPTION:Esitlusel vaatleme erinevaid põllumajandusmaastiku elemente mis soodustavad põllulindude pesitsust. Vaatame kuidas elada üle rändlindude kahjustused põllul. Suurkoovitaja. Foto: Arne Ader. Loodusemees OÜ Kogunemiskoht: Rannu Seeme OÜ kontori juures aadressil Annikoru küla\, Elva vald\,  Tartu maakond. Päevakava10:00 – 11:00   Lindude meeliselupaigad põllumajandusmaastikul (Leho Luigujõe\, EMÜ).11:00 – 11:20   Põllulindudega arvestamine põllutöödel (Madis Ajaots\, Pilsu talu).11:20 – 11:45   Lõunapaus11:45 – 15:00   Põlluring\, vaatame erinevaid maastikuelemente ja läbi viidud põldkatseid (Leho Luigujõe\, EMÜ)   Infopäeval osalemiseks palume eelnevalt registreeruda: https://forms.gle/UaYt6QnYafuf3xGv6   Täiendav info tel: 501 8038 (Toomas Tõrra) Esitluspäeva korraldab Eesti Maaülikool   Esitlus on osalejatele tasuta\, esitlus toimub “Teadmussiirde pikaajaline programm põllumajanduse\, toidu ja maamajanduse tegevusvaldkonnas” raames\, toetab Euroopa Maaelu Arengu Põllumajandusfond.
URL:https://lihaveis.ee/sundmus/esitluspaev-pollulinnud-tootmispoldudel/
LOCATION:Tartumaa\, Eesti
END:VEVENT
BEGIN:VEVENT
DTSTART;TZID=Europe/Tallinn:20220723T100000
DTEND;TZID=Europe/Tallinn:20220724T170000
DTSTAMP:20260420T153656
CREATED:20220627T123556Z
LAST-MODIFIED:20220628T052909Z
UID:20929-1658570400-1658682000@lihaveis.ee
SUMMARY:Avatud talude päev
DESCRIPTION:Avatud talude päeva põhipäev on pühapäev\, 24. juuli ning sel päeval on külastajatele avatud kõik registreerunud talud. Samas on laupäeval\, 23. juulil ka võimalik avada oma talu ning seda võimalust kasutab tänavu neli viiendikku taludest. \nMiks osaleda? Sind ootavad nii suuremad farmid kui ka väiksemad talud\, põnevad loomad ja taimed\, vinge põllumajandustehnika\, päris talutoit\, ekskursioonid\, töötoad ja veel palju põnevat. Igal talul on oma programm\, milles näidatakse oma talu eripärasid. \nAvatud talude päev annab hea võimaluse näha\, kuidas kasvab kodumaine toit\, mida kujutab endast üks tänapäevane talupidamine või põllumajandusettevõte ning kui mitmekesine on maaelu. \nMillal sa viimati said kitsega tõtt vaadata või proovida kombaini rooli istuda? Tule avatud talude päeval maale\, siis saad.
URL:https://lihaveis.ee/sundmus/avatud-talude-paev/
END:VEVENT
BEGIN:VEVENT
DTSTART;TZID=Europe/Tallinn:20220721T100000
DTEND;TZID=Europe/Tallinn:20220721T150000
DTSTAMP:20260420T153656
CREATED:20220714T155144Z
LAST-MODIFIED:20220714T155144Z
UID:25541-1658397600-1658415600@lihaveis.ee
SUMMARY:Infopäev praktikaga: Põllumajandus ja tolmeldamine
DESCRIPTION:Eesti Maaülikool korraldab esitluspäeva põllumajanduse tolmeldamisest   21. juulil 2022  Esitlusel tutvume mesilastele võimalike atraktiivsete korjetaimedega. Õpime tundma korjetaimi ja nende seemneid ning koostama seemnesegusid. Kogunemis koht: Rannu Seeme OÜ kontori juures aadressil Annikoru küla\, Elva vald\,  Tartu maakond. Päevakava  \n10:00 – 10:30   Põllumehe kogemused korjetaimede kasvatamisel (Madis Ajaots\, Pilsu talu).10:30 – 11:45   Põllumajandus mesilaste silme läbi (Jaan Liira\, TÜ).11:45 – 12:15   Mesilaste stress (Kaarel Pent\, EMÜ)12:15 – 12:45  Mesilaste korjebaas (Sigmar Naudi\, EMÜ)13:15 – 14:15   Atraktiivsed korjetaimed ja nende tundma õppimine (Peeter Lääniste\, EMÜ).14:15  – 14:45  Korjetaimede seemned ja seemnesegude koostamine (Peeter Lääniste\, EMÜ)14:45 – 15:00    Päeva kokkuvõte \nInfopäeval osalemiseks palume eelnevalt registreeruda: https://forms.gle/GSxiLmt4DfcrwWgw9   Täiendav info tel: 501 8038 (Toomas Tõrra) Esitluspäeva korraldab Eesti Maaülikool   Esitluspäev on osalejatele tasuta\, esitluspäev toimub “Teadmussiirde pikaajaline programm põllumajanduse\, toidu ja maamajanduse tegevusvaldkonnas” taimekasvatuse valdkonna raames\, toetab Euroopa Maaelu Arengu Põllumajandusfond.
URL:https://lihaveis.ee/sundmus/infopaev-praktikaga-pollumajandus-ja-tolmeldamine/
LOCATION:Tartumaa\, Eesti
END:VEVENT
BEGIN:VEVENT
DTSTART;TZID=Europe/Tallinn:20220720T170000
DTEND;TZID=Europe/Tallinn:20220720T180000
DTSTAMP:20260420T153656
CREATED:20220715T125751Z
LAST-MODIFIED:20220715T125915Z
UID:25681-1658336400-1658340000@lihaveis.ee
SUMMARY:BovINE "The Sustainable Meat Project\, a successful communication experience for consumers and stakeholders"
DESCRIPTION:Registreeru siin: https://buff.ly/3IpH1da
URL:https://lihaveis.ee/sundmus/bovine-the-sustainable-meat-project-a-successful-communication-experience-for-consumers-and-stakeholders/
LOCATION:Veebis\, Eesti
END:VEVENT
BEGIN:VEVENT
DTSTART;TZID=Europe/Tallinn:20220715T100000
DTEND;TZID=Europe/Tallinn:20220715T150000
DTSTAMP:20260420T153656
CREATED:20220714T151418Z
LAST-MODIFIED:20220714T151418Z
UID:25537-1657879200-1657897200@lihaveis.ee
SUMMARY:Esitluspäev Eesti Maaülikoolis: Mullas toimuvad protsessid ja täppisviljelus
DESCRIPTION:juuli 2022 kell 10:00 kuni 15:00 \nEsitlusel tutvume Eesti Maaülikooli põldkatsetel toimuva mullaseire poolega\, vaatame mis toimub pikaajalises 3 väljalises külvikorrakatses mullas\, vaatame erinevate lubiväetiste esimese aasta mõju suviodrale\, uut lubiväetiste arenduses ning uudistame keldrit\, kuhu jookseb kokku erinevate katselappide dreenivesi. Esitlus toimub Eesti Maaülikoolis Rõhu katsejaamas aadressiga: Katseaia\, Eerika tee\, Õssu küla\, Kambja vald\, Tartu maakond (Lõunakeskuse lähedal). Päevakava10:00 – 10:10   Päeva tegevuste sissejuhatus (Toomas Tõrra). 10:10 – 11:00   Mullaseire lahendused pikaajalisel 3 väljalisel (suvinisu\, suvioder ja sorgo) väetuskatsel (Alar Astover).   11:00 – 11:45    Erinevate lubiväetiste mõju mulla pH-le ja suviodra saagikusele (Alar Astover) 11:45 – 12:15   Uued tooted lubiväetiste vallas (Alar Astover).   12:15  – 13:15  Täppisviljeluse seirelahendused (Toomas Tõrra ja Jaanus Kilgi) 13:15  – 14:45    Taime toitainete leostumise seire (Henn Raave).   14:45 – 15:00     Päeva kokkuvõte ja suupisted   Infopäeval osalemiseks palume eelnevalt registreeruda: https://forms.gle/jjQctyweYuwnuUQy6 Täiendav info tel: 501 8038 (Toomas Tõrra) Esitlus on osalejatele tasuta\, esitlus toimub “Teadmussiirde pikaajaline programm põllumajanduse\, toidu ja maamajanduse tegevusvaldkonnas” raames\, toetab Euroopa Maaelu Arengu Põllumajandusfond.
URL:https://lihaveis.ee/sundmus/esitluspaev-eesti-maaulikoolis-mullas-toimuvad-protsessid-ja-tappisviljelus/
LOCATION:Tartumaa\, Eesti
END:VEVENT
BEGIN:VEVENT
DTSTART;TZID=Europe/Tallinn:20220707T110000
DTEND;TZID=Europe/Tallinn:20220718T200000
DTSTAMP:20260420T153656
CREATED:20220627T123509Z
LAST-MODIFIED:20220628T053314Z
UID:20927-1657191600-1658174400@lihaveis.ee
SUMMARY:Šarolee maailmakongress Suurbritannias
DESCRIPTION:Kongressi koduleht: www.charolaisinternational.com/uk-2022
URL:https://lihaveis.ee/sundmus/sarolee-maailmakongress-suurbritannias/
END:VEVENT
BEGIN:VEVENT
DTSTART;TZID=Europe/Tallinn:20220701T110000
DTEND;TZID=Europe/Tallinn:20220702T200000
DTSTAMP:20260420T153656
CREATED:20220627T123324Z
LAST-MODIFIED:20220628T053622Z
UID:20925-1656673200-1656792000@lihaveis.ee
SUMMARY:ELKS suvepäevad\, Uueda puhkekeskuses
DESCRIPTION:Uuenda puhkekeskus asub kõigest 10 kilomeetri ja 15 minutilise autosõidu kaugusel Pärnu kesklinna saginast leiate end maagilise Sauga jõe “poolsaarelt “. Nende 3\,8-sa hektari suurune armastusega hooldatud territoorium on kolmest küljest ümbritsetud jõega\, mille looglevad kaldad tekitavad tunde nagu oleksid sattunud Lõuna – Eesti maastikule.
URL:https://lihaveis.ee/sundmus/elks-suvepaevad-uueda-puhkekeskuses/
END:VEVENT
END:VCALENDAR