BEGIN:VCALENDAR
VERSION:2.0
PRODID:-//Lihaveis - ECPv6.9.0//NONSGML v1.0//EN
CALSCALE:GREGORIAN
METHOD:PUBLISH
X-WR-CALNAME:Lihaveis
X-ORIGINAL-URL:https://lihaveis.ee
X-WR-CALDESC:Events for Lihaveis
REFRESH-INTERVAL;VALUE=DURATION:PT1H
X-Robots-Tag:noindex
X-PUBLISHED-TTL:PT1H
BEGIN:VTIMEZONE
TZID:Europe/Tallinn
BEGIN:DAYLIGHT
TZOFFSETFROM:+0200
TZOFFSETTO:+0300
TZNAME:EEST
DTSTART:20220327T010000
END:DAYLIGHT
BEGIN:STANDARD
TZOFFSETFROM:+0300
TZOFFSETTO:+0200
TZNAME:EET
DTSTART:20221030T010000
END:STANDARD
END:VTIMEZONE
BEGIN:VEVENT
DTSTART;TZID=Europe/Tallinn:20220707T110000
DTEND;TZID=Europe/Tallinn:20220718T200000
DTSTAMP:20260420T171456
CREATED:20220627T123509Z
LAST-MODIFIED:20220628T053314Z
UID:20927-1657191600-1658174400@lihaveis.ee
SUMMARY:Šarolee maailmakongress Suurbritannias
DESCRIPTION:Kongressi koduleht: www.charolaisinternational.com/uk-2022
URL:https://lihaveis.ee/sundmus/sarolee-maailmakongress-suurbritannias/
END:VEVENT
BEGIN:VEVENT
DTSTART;TZID=Europe/Tallinn:20220701T110000
DTEND;TZID=Europe/Tallinn:20220702T200000
DTSTAMP:20260420T171456
CREATED:20220627T123324Z
LAST-MODIFIED:20220628T053622Z
UID:20925-1656673200-1656792000@lihaveis.ee
SUMMARY:ELKS suvepäevad\, Uueda puhkekeskuses
DESCRIPTION:Uuenda puhkekeskus asub kõigest 10 kilomeetri ja 15 minutilise autosõidu kaugusel Pärnu kesklinna saginast leiate end maagilise Sauga jõe “poolsaarelt “. Nende 3\,8-sa hektari suurune armastusega hooldatud territoorium on kolmest küljest ümbritsetud jõega\, mille looglevad kaldad tekitavad tunde nagu oleksid sattunud Lõuna – Eesti maastikule.
URL:https://lihaveis.ee/sundmus/elks-suvepaevad-uueda-puhkekeskuses/
END:VEVENT
END:VCALENDAR