BEGIN:VCALENDAR
VERSION:2.0
PRODID:-//Lihaveis - ECPv6.9.0//NONSGML v1.0//EN
CALSCALE:GREGORIAN
METHOD:PUBLISH
X-WR-CALNAME:Lihaveis
X-ORIGINAL-URL:https://lihaveis.ee
X-WR-CALDESC:Events for Lihaveis
REFRESH-INTERVAL;VALUE=DURATION:PT1H
X-Robots-Tag:noindex
X-PUBLISHED-TTL:PT1H
BEGIN:VTIMEZONE
TZID:Europe/Tallinn
BEGIN:DAYLIGHT
TZOFFSETFROM:+0200
TZOFFSETTO:+0300
TZNAME:EEST
DTSTART:20230326T010000
END:DAYLIGHT
BEGIN:STANDARD
TZOFFSETFROM:+0300
TZOFFSETTO:+0200
TZNAME:EET
DTSTART:20231029T010000
END:STANDARD
END:VTIMEZONE
BEGIN:VEVENT
DTSTART;TZID=Europe/Tallinn:20230329T130000
DTEND;TZID=Europe/Tallinn:20230329T153000
DTSTAMP:20260423T121430
CREATED:20230120T152800Z
LAST-MODIFIED:20230120T152800Z
UID:26204-1680094800-1680103800@lihaveis.ee
SUMMARY:Tasuta infopäev veebis “Silo tootmine põllumajandusloomadele”
DESCRIPTION:Osalemine reaalajas.\nMaht 3 AT (akadeemilist tundi)\nSisu:\n– Silo tootmise etapid ja nende olulisus;\n– Mis mõjutab silo fermentatsiooni?\n– Arutelu aktuaalsetel siloga seotud teemadel. \nKoolitaja: Andres Olt\nAjakava\n9.45 – 10.00 veebiruumi sisse logimine ja sissejuhatus\n10.00 – 11.15 õppetöö\n11.15 – 11.30 paus\n11.30 – 12.30 õppetöö \nInfopäeva ettekanne saab kättesaadavaks sellelt kodulehelt. \nOsalemissoovi korral on vajalik eelregistreerimine\, seda saab teha SIIT. \nTegevus toimub teadmussiirde pikaajalise programmi raames põllumajanduse\, toidu ja maamajanduse tegevusvaldkonnas ning on osalejatele tasuta. \nInfopäeva korraldab:\nEesti Maaülikooli avatud ülikool​\nKreutzwaldi 56/1 (III korrus\, ruumid 303-306)\, 51006 Tartu\ntel 731 3175\, 5344 1844\ne-post: avayl@emu.ee
URL:https://lihaveis.ee/sundmus/tasuta-infopaev-veebis-silo-tootmine-pollumajandusloomadele/
END:VEVENT
END:VCALENDAR