BEGIN:VCALENDAR
VERSION:2.0
PRODID:-//Lihaveis - ECPv6.9.0//NONSGML v1.0//EN
CALSCALE:GREGORIAN
METHOD:PUBLISH
X-ORIGINAL-URL:https://lihaveis.ee
X-WR-CALDESC:Events for Lihaveis
REFRESH-INTERVAL;VALUE=DURATION:PT1H
X-Robots-Tag:noindex
X-PUBLISHED-TTL:PT1H
BEGIN:VTIMEZONE
TZID:Europe/Tallinn
BEGIN:DAYLIGHT
TZOFFSETFROM:+0200
TZOFFSETTO:+0300
TZNAME:EEST
DTSTART:20220327T010000
END:DAYLIGHT
BEGIN:STANDARD
TZOFFSETFROM:+0300
TZOFFSETTO:+0200
TZNAME:EET
DTSTART:20221030T010000
END:STANDARD
END:VTIMEZONE
BEGIN:VEVENT
DTSTART;TZID=Europe/Tallinn:20221212T120000
DTEND;TZID=Europe/Tallinn:20221212T143000
DTSTAMP:20260423T175841
CREATED:20221129T120127Z
LAST-MODIFIED:20221129T120127Z
UID:26074-1670846400-1670855400@lihaveis.ee
SUMMARY:EPKK infopäev "Põllumajandusplasti jäätmete nõuetekohane käitlemine"
DESCRIPTION:Kutsume teid infopäevale „Põllumajandusplasti jäätmete nõuetekohane käitlemine“ \nAeg: 12. detsember 2022 kell 10:00 – 12.30 \nKoht: Veebikeskkond ZOOM \n  \nPäevakavas: \n  \n10:00-10:30 Muudatused õigusaktides – Piret Otsason\, Keskkonnaministeerium \n10:30-11:00 Ülevaade põllumajandusplasti jäätmete kogumise ja hoiustamise nõuete täitmisest – Rene Rajasalu\, Keskkonnaamet \n11:00-11:30 Põllumajandusplasti jäätmete käitlemine – jäätmekäitleja vaade – Villu Uus\, \nMarico Holding \n11:30-11:45 sirutuspaus \n11:45-12:15 Põllumajandusplasti jäätmete käitlemine – maaletooja vaade – Tiina Meikar\, Baltic Agro \n12:15-12:30 Põllumajandusplasti teemalise infomaterjali tutvustus – Karmen Roost\, EPKK \n\nRegistreerimine avatud kuni 9. detsembri kella 17ni SIIN \n  \nTASUTA infopäeva korraldamist toetab Euroopa Liit.
URL:https://lihaveis.ee/sundmus/epkk-infopaev-pollumajandusplasti-jaatmete-nouetekohane-kaitlemine/
END:VEVENT
END:VCALENDAR