BEGIN:VCALENDAR
VERSION:2.0
PRODID:-//Lihaveis - ECPv6.9.0//NONSGML v1.0//EN
CALSCALE:GREGORIAN
METHOD:PUBLISH
X-WR-CALNAME:Lihaveis
X-ORIGINAL-URL:https://lihaveis.ee
X-WR-CALDESC:Events for Lihaveis
REFRESH-INTERVAL;VALUE=DURATION:PT1H
X-Robots-Tag:noindex
X-PUBLISHED-TTL:PT1H
BEGIN:VTIMEZONE
TZID:Europe/Tallinn
BEGIN:DAYLIGHT
TZOFFSETFROM:+0200
TZOFFSETTO:+0300
TZNAME:EEST
DTSTART:20220327T010000
END:DAYLIGHT
BEGIN:STANDARD
TZOFFSETFROM:+0300
TZOFFSETTO:+0200
TZNAME:EET
DTSTART:20221030T010000
END:STANDARD
END:VTIMEZONE
BEGIN:VEVENT
DTSTART;TZID=Europe/Tallinn:20221209T113000
DTEND;TZID=Europe/Tallinn:20221209T173000
DTSTAMP:20260423T175844
CREATED:20221124T115447Z
LAST-MODIFIED:20221124T115447Z
UID:26055-1670585400-1670607000@lihaveis.ee
SUMMARY:MAAELUMINISTEERIUM: Ühise põllumajanduspoliitika strateegiakava tutvustav infopäev Elvas
DESCRIPTION:TEISIPÄEVAL\, 9. detsembril 2022 algusega kell 9:30 toimub Ühise põllumajanduspoliitika strateegiakava tutvustav infopäev Elva kultuurikeskuses\, Tartumaal. \nRohkem infot Euroopa Liidu ühise põllumajanduspoliitika strateegiakava 2023–2027 kohta Maaeluministeeriumi veebilehel\, sh infopäevade toimumise kalender. Kokku on tulemas 12 infopäeva üle Eesti! \nLoe infopäevade korraldamise eesmärgist Maaeluministeeriumi pressiteatest SIIT (link lisamisel). \nElva kultuurikeskuses toimuvale infopäevale registreerimine kuni 7. detsembrini Maainfo veebilehel kaudu. \nInfopäeva korraldavad Maaeluministeerium ja Põllumajandusuuringute Keskuse maaelu võrgustikutöö osakond. \nESIALGNE PÄEVAKAVA: \n9.00 – 9.30 Kogunemine \n9.30 – 9.45 Maaeluminister Urmas Kruuse tervitussõnad \n9.45 – 10.15 EL ühine põllumajanduspoliitika pärast 2023. a ja ÜPP strateegiakava ettevalmistustest \nMarko Gorban\, Maaeluministeeriumi kantsler \n10.15 – 12.45 Otsetoetused ning põllumajanduskeskkonna – ja kliimasekkumised \nKatrin Rannik\, Maaeluministeeriumi maakasutuspoliitika osakonna juhataja \n12.45 – 13.15 Kohvipaus \n13.15 – 14.45 Põllumajandus- ja toidusektori sekkumised – riskijuhtimine\, investeeringud\, koostöö \nKristel Maidre\, Maaeluministeeriumi põllumajanduspoliitika osakonna juhataja \n14.45 – 15.30 Finantsinstrumendid ja maapiirkonna arengu sekkumised \nOlavi Petron\, Maaeluministeeriumi maaelupoliitika ja analüüsi osakonna juhataja \n15.30              Infopäeva lõpp \nInfopäeva üldine teave Reve Lambur\, 5298009\, reve.lambur@pmk.agri.ee \nHEA TEADA! ÜPP strateegiakava infopäevade kuupäevad ja kohad: \n• T\, 8. november – Oru kultuurisaal\, Läänemaal\n• K\, 9. november – Rapla kultuurikeskuses\n• R\, 11. november – Viljandimaal (koht täpsustamisel)\n• T\, 15. november – Pärnus Strand Konverentsi & Spaa hotellis\n• K\, 16. november – Jänedal Lääne-Virumaal\n• R\, 18. november – Jõgeva kultuurikeskuses\n• T\, 29. november – Saaremaal Kõljala rahvamajas\n• K\, 30. november – Hiiumaal Kärdla kultuurikeskuses\n• R\, 2. detsembril – Ida-Virumaal Tammiku rahvamajas\n• T\, 6. detsembril – Võru kultuurimajas “Kannel”\n• K\, 7. detsembril – Karksi-Nuia kultuurikeskuses\n• R\, 9. detsembril – Elva kultuurikeskus Tartumaal \nÜrituse läbiviimine on toetatud Eesti maaelu arengukava tehnilise abi vahenditest maaeluvõrgustiku tegevusele.\nÜritus on osalejatele tasuta
URL:https://lihaveis.ee/sundmus/maaeluministeerium-uhise-pollumajanduspoliitika-strateegiakava-tutvustav-infopaev-elvas/
END:VEVENT
BEGIN:VEVENT
DTSTART;TZID=Europe/Tallinn:20221209T120000
DTEND;TZID=Europe/Tallinn:20221209T170000
DTSTAMP:20260423T175844
CREATED:20221124T115526Z
LAST-MODIFIED:20221124T115526Z
UID:26057-1670587200-1670605200@lihaveis.ee
SUMMARY:Infopäev Veiste söötmine ja söödahügieen
DESCRIPTION:Infopäev toimub 09.detsember MTÜ Üdruma Küla Selts\, Lääne maakond \nInfopäeva moto – õpime üksteiselt \nPäevakava \n10:00 – 10.45     Häid praktikad söötmisest väiketalus. T. Pikkmets \n10:45 – 11:30    Praktilisi kogemusi lihaveiste söötmisest. Topi Mõis OÜ-s. A. Vaan \n11:30 – 12:00    Paus \n12:00 – 12:45    Tegurid mis mõjutavad veiste sööda tarbimist\, söödahügieen. M. Oeselg \n12:45 – 15:00     Ettevõtte külastus Topi Mõis OÜ \n  \nLektorid: \nTargo Pikkmets\, Talu ja Tulu OÜ-s kasvab šarolee tõukari ( 15 amme)\, söötmine söödarõngastest /-majadest. \nAndres Vaan\, Topi Mõis OÜ-s kasvab limusiini tõukari ( 170 amme)\, kasutuses on söödamikser ja söötmine söödalavalt. \nMarika Oeselg\, veisekasvatusnõustaja Maaelu Edendamise Sihtasutus \n  \nRegistreerimine kuni 07.detsember või kuni grupi täitumiseni ( 20 osalejat) \n  \nhttps://forms.gle/oTqJw4oJuzpuXm5U6
URL:https://lihaveis.ee/sundmus/infopaev-veiste-sootmine-ja-soodahugieen/
END:VEVENT
BEGIN:VEVENT
DTSTART;TZID=Europe/Tallinn:20221209T120000
DTEND;TZID=Europe/Tallinn:20221209T171500
DTSTAMP:20260423T175844
CREATED:20220714T151138Z
LAST-MODIFIED:20220714T151138Z
UID:25533-1670587200-1670606100@lihaveis.ee
SUMMARY:Tootmishügieeni tagamine toidu käitlemisel (veebipõhine kursus)
DESCRIPTION:Täpsem info ja registreerumine SIIT Professor Mati Roasto koolitus annab ülevaate toidukäitlemisettevõtte tootmishügieeni mõjutavatest teguritest ning koristamise ja sanitatsiooni korraldamise alustest. Koolitusel käsitletavad teemad:  \nSeonduvad teabematerjalid ning populaarteaduslikud artiklid;Seadusandlusest tulenevad protsessi hügieenikriteeriumid;Toidu tootmishügieeni eesmärgid\, korraldus ja head tavad;Toidu tootmishügieeni seosed toidu ohutuse ja -kvaliteediga;Toidu tootmishügieeni mõjutavad tegurid;Ettevõtte personali hügieen ja selle olulisus toiduohutuse tagamisel;Seadmete ja hoonete hügieeniline disain;Hügieenitsoonide vajalikkus toidukäitlemisettevõttes;Biokirmed ja mikroorganismide niššid toidu tootmiskeskkonnas ja nende tuvastamise\, hävitamise ja ennetamise võimalused;Toidu tootmishügieeni enim mõjutavad mikroorganismid k.a. toidupatogeenid;Tootmiskeskkonnas puhtuse tagamine ja seonduvad koristamise ja sanitatsiooni põhimõtted;Tootmishügieeni probleemsete kohtade tuvastamise võimalused ning seonduvhügieeniproovide võtmine ning analüüsitulemuste tõlgendamine;Tootmiskeskkonnas Listeria monocytogenes tuvastamine\, likvideerimine ja ennetamine. \nTäienduskoolitusest võivad osa võtta:  \npõllumajandustoodete töötlemise või turustamisega tegelev füüsilisest isikust ettevõtja ja tema töötaja ning eraõigusliku juriidilise isiku osanik\, aktsionär\, liige\, juhtorgani liige ja tema töötaja;põllumajandustoodetest mittepõllumajandustoodete töötlemise sh toidu valmistamise või töötlemisega tegelev füüsilisest isikust ettevõtja ja tema töötaja ning eraõigusliku juriidilise isiku osanik\, aktsionär\, liige\, juhtorgani liige ja tema töötaja;toidu valmistamise või töötlemisega tegelev avalik-õigusliku juriidilise isiku juhtorgani liige või töötaja;põllumajandustootjate valdkonda teenindavad isikud (nt kokkuostuga tegelevate ettevõtete töötajad);isikud (FIE-d või ettevõtte esindajad)\, kes koguvad teadmisi uue tegevusvaldkonna kohta;põllumajanduslike esindus- ja erialaorganisatsioonide (MTÜ-d\, mille liikmeteks on põllumajandussaaduste töötlejad) juhatuse liikmed ja töötajad. \nFüüsiliste isikute ja riigiametnike täienduskoolitusel osalemine ei ole toetatav! Koolitus toimub MAK 2014-2020 meetme “Teadmussiirde pikaajaline programm põllumajanduse\, toidu ja maamajanduse tegevusvaldkonnas” toidu ja toiduohutuse valdkonna raames\, toetab Euroopa Liit. Koolitusel osalemine on vähese tähtsusega abi (VTA). Abisumma ühe osavõtja kohta arvutatakse osavõtjate lõpliku arvu järgi\, kuid see ei ületa 250 eurot. Ettevõtte VTA vaba jääki saab kontrollida SIIT Kui osaleja ettevõttel ei ole piisavalt VTA vaba jääki\, siis on osalemise eest antav toetus riigiabi ning sellisel juhul tuleb ettevõttel esitada enne tegevuse toimumist riigiabi taotlus (vormi saab korraldajalt).Keskmise suurusega ettevõtja korral toetatakse infopäeval või koolitusel osalemist 60%\, mikro-ja väikeettevõtja korral 70% ning suurettevõtja korral 50% ulatuses osaleja kohta.Puudujääv osa tuleb osalejal/ettevõttel endal tasuda. . Koolituse korraldaja:Eesti Maaülikooli avatud ülikoolFr. R. Kreutzwaldi 56/151006 Tartu\,tel 731 3275e-post: avayl@emu.eehttp://avatudylikool.emu.ee/
URL:https://lihaveis.ee/sundmus/tootmishugieeni-tagamine-toidu-kaitlemisel-veebipohine-kursus/
LOCATION:Veebis\, Eesti
ORGANIZER;CN="Eesti%20Maa%C3%BClikooli%20avatud%20%C3%BClikool":MAILTO:avayl@emu_ee
END:VEVENT
END:VCALENDAR